BEGIN:VCALENDAR
VERSION:2.0
METHOD:PUBLISH
BEGIN:VEVENT
UID:WILD_APRICOT_EVENT_6630595_SESSION_1
DTSTART:20260628T140000Z
DTEND:20260628T210000Z
SUMMARY:MAWDC Annual Picnic - SAVE THE DATE
LOCATION:Carderock Recreation Area\, Chesapeake and Ohio Canal Towpath\, Potomac\, MD 20854 (on Google maps)
DESCRIPTION:https://mawdc.org/event-6630595\n\n\n\n  Let's get together IN PERSON! Mark your calendars and REGISTER for the Annual Picninc at Carderock Recreation Area!\n  The picnic will be held at: Carderock Recreation Area\, Chesapeake and Ohio Canal Towpath\, Potomac\, MD 20854 (on Google maps)\n        * Start the morning with a guided walk\n\n        * Picnic\, potluck style starting at 12noon\n\n        * Family friendly game\n\n  Bring your family\, dog\, toys\, insect repellant\, and a dish to share.\n  \n\n  Running water\, bathrooms\, and electricity available on-site\n  Free parking adjacent to the pavilion.\n  \n\n  MAWDC will provide cold drinks and mushrooms to put on the grill.\n  Registration opens on Jun 1\n
DTSTAMP:20260421T125553Z
END:VEVENT
END:VCALENDAR
